BEGIN:VCALENDAR
VERSION:2.0
PRODID:-//CERN//INDICO//EN
BEGIN:VEVENT
SUMMARY:A Universal Quantum Computer from Relativistic Motion
DTSTART:20260327T090000Z
DTEND:20260327T110000Z
DTSTAMP:20260424T125300Z
UID:indico-event-9654@indico.fysik.su.se
DESCRIPTION:Speakers: Phil LeMaitre\n\nhttps://indico.fysik.su.se/event/96
 54/
LOCATION:Albano 3: 6228 - Mega (22 seats) (Albano Building 3)
URL:https://indico.fysik.su.se/event/9654/
END:VEVENT
END:VCALENDAR
