BEGIN:VCALENDAR
VERSION:2.0
PRODID:-//CERN//INDICO//EN
BEGIN:VEVENT
SUMMARY:Processes\, operations\, causality\, and memory in continuous time
DTSTART:20260401T071500Z
DTEND:20260401T081500Z
DTSTAMP:20260424T125300Z
UID:indico-event-9661@indico.fysik.su.se
DESCRIPTION:Speakers: Fabio Costa (Stockholm University\, Nordita)\n\nhttp
 s://indico.fysik.su.se/event/9661/
LOCATION:Albano 3: 6228 - Mega (22 seats) (Albano Building 3)
URL:https://indico.fysik.su.se/event/9661/
END:VEVENT
END:VCALENDAR
