BEGIN:VCALENDAR
VERSION:2.0
PRODID:-//CERN//INDICO//EN
BEGIN:VEVENT
SUMMARY:IX SWEDISH—UKRAINIAN SEMINAR in THEORETICAL PHYSICS
DTSTART:20260414T070000Z
DTEND:20260414T100000Z
DTSTAMP:20260420T181800Z
UID:indico-event-9665@indico.fysik.su.se
DESCRIPTION:Speakers: Erik Aurell (KTH)\, Mats Larsson (Stockholm Universi
 ty)\, Larissa Brizhik (BITP)\n\nNINTH SWEDISH—UKRAINIAN on-line SEMINAR 
 in THEORETICAL PHYSICS \nNote 1: times below are CE time (Stockholm time)
  \nNote 2: for abstracts\, see attached file or http://bitp.kiev.ua/news.
 \n09.00–09.05 Opening09.05–09.45 Angelo Vulpiani (Dipartimento  di  
 Fisica\,  Universita  di  Roma  “Sapienza”) "Something about  L.F
 . Richardson: a tribute to a great scientist\,  coherent pacifist and pro
 phetic visionary"\n09.45–10.25 Ramon Wyss (KTH Sweden) “From earthqua
 ke forecasting to predictions - the ArtEmis project”\n10.25–10.40 Coff
 ee break\n10.40–11.10 Yuliia Lashko\, Viktor Zhaba\, Viktor Vasilevsky 
  (BITP of the NAS of Ukraine\, Kyiv\, Ukraine) "Unveiling 8Be near the 7L
 i+p and 7Be+n thresholds: twin resonances and astrophysical S-factors"\n11
 .10–11.40 Borys Gryniuk (BITP of the NAS of Ukraine\, Kyiv\, Ukraine)  
 “A few-body problem within variational approach”\n11.40–12.00 Dmytr
 o Anchyshkin (BITP of the NAS of Ukraine\, Kyiv\, Ukraine) “A Particle S
 pectra in Relativistic Heavy-Ion Collisions”\n\nhttps://indico.fysik.su.
 se/event/9665/
LOCATION:zoom
URL:https://indico.fysik.su.se/event/9665/
END:VEVENT
END:VCALENDAR
