BEGIN:VCALENDAR
VERSION:2.0
PRODID:-//CERN//INDICO//EN
BEGIN:VEVENT
SUMMARY:AI Discussion Forum
DTSTART:20260414T133000Z
DTEND:20260414T143000Z
DTSTAMP:20260425T223100Z
UID:indico-event-9671@indico.fysik.su.se
DESCRIPTION:Room: A5:1003 (KTH corridor)\nZoom room: link (meeting ID: 622
  7426 3522\, passcode: 453766)\n \n\nhttps://indico.fysik.su.se/event/967
 1/
LOCATION:A5:1003 (AlbaNova Main Building)
URL:https://indico.fysik.su.se/event/9671/
END:VEVENT
END:VCALENDAR
