BEGIN:VCALENDAR
VERSION:2.0
PRODID:-//CERN//INDICO//EN
BEGIN:VEVENT
SUMMARY:Study Group: Building AI Agents
DTSTART:20260413T113000Z
DTEND:20260413T123000Z
DTSTAMP:20260425T223100Z
UID:indico-event-9677@indico.fysik.su.se
DESCRIPTION:https://indico.fysik.su.se/event/9677/
LOCATION:AlbaNova A5:1041 - CoPS grupprum (AlbaNova Main Building)
URL:https://indico.fysik.su.se/event/9677/
END:VEVENT
END:VCALENDAR
