BEGIN:VCALENDAR
VERSION:2.0
PRODID:-//CERN//INDICO//EN
BEGIN:VEVENT
SUMMARY:Reversible Work Extraction by a Fully Unitary Maxwell's Demon
DTSTART:20260415T120000Z
DTEND:20260415T130000Z
DTSTAMP:20260424T100900Z
UID:indico-event-9680@indico.fysik.su.se
DESCRIPTION:Speakers: Ana Costa\n\nhttps://indico.fysik.su.se/event/9680/
LOCATION:Albano 3: 6228 - Mega (22 seats) (Albano Building 3)
URL:https://indico.fysik.su.se/event/9680/
END:VEVENT
END:VCALENDAR
