BEGIN:VCALENDAR
VERSION:2.0
PRODID:-//CERN//INDICO//EN
BEGIN:VEVENT
SUMMARY:Testing quantum superpositions of the gravitational field with Bos
 e-Einstein condensates
DTSTART:20260414T130000Z
DTEND:20260414T140000Z
DTSTAMP:20260421T100000Z
UID:indico-event-9682@indico.fysik.su.se
DESCRIPTION:Speakers: Sara Ann Butler (SU\, IQOQI)\n\nauthors Netanel H. L
 indner and Asher Peres Phys. Rev. A 71\, 024101https://journals.aps.org/p
 ra/abstract/10.1103/PhysRevA.71.024101\n \nAbstract:\nWconsider the gravi
 ty field of a Bose-Einstein condensate in a quantum superposition. The gra
 vity field then is also in a quantum superposition\, which is in principle
  observable. Hence we have “quantum gravity” far away from the so-call
 ed Planck scale.\n \nzoom https://stockholmuniversity.zoom.us/j/614698225
 88\n\nhttps://indico.fysik.su.se/event/9682/
LOCATION:AlbaNova A5:1041 - CoPS grupprum (AlbaNova Main Building)
URL:https://indico.fysik.su.se/event/9682/
END:VEVENT
END:VCALENDAR
