BEGIN:VCALENDAR
VERSION:2.0
PRODID:-//CERN//INDICO//EN
BEGIN:VEVENT
SUMMARY:Agentic AI: Hub meeting
DTSTART:20260420T113000Z
DTEND:20260420T123000Z
DTSTAMP:20260425T223100Z
UID:indico-event-9684@indico.fysik.su.se
DESCRIPTION:Speakers: Timothy Linden (Stockholm University)\, Jens Jasche 
 (Stockholm University)\n\nPhysical Meeting: FB52\nOnline: https://stockhol
 muniversity.zoom.us/j/61742181362\n\nhttps://indico.fysik.su.se/event/9684
 /
LOCATION:FB52 (AlbaNova Main Building)
URL:https://indico.fysik.su.se/event/9684/
END:VEVENT
END:VCALENDAR
