BEGIN:VCALENDAR
VERSION:2.0
PRODID:-//CERN//INDICO//EN
BEGIN:VEVENT
SUMMARY:AI Discussion Forum
DTSTART:20260428T133000Z
DTEND:20260428T143000Z
DTSTAMP:20260425T223100Z
UID:indico-event-9686@indico.fysik.su.se
DESCRIPTION:Room: A5:1003 (KTH corridor)\nZoom room: link (meeting ID: 622
  7426 3522\, passcode: 453766)\nList of topics and summaries: link\n\nhttp
 s://indico.fysik.su.se/event/9686/
LOCATION:A5:1003 (AlbaNova Main Building)
URL:https://indico.fysik.su.se/event/9686/
END:VEVENT
END:VCALENDAR
